﻿BEGIN:VCALENDAR
VERSION:2.0
PRODID:-//BIHE Consulting - ECPv5.8.1//NONSGML v1.0//EN
CALSCALE:GREGORIAN
METHOD:PUBLISH
X-WR-CALNAME:BIHE Consulting
X-ORIGINAL-URL:https://www.bihec.com/en
X-WR-CALDESC:Events for BIHE Consulting
BEGIN:VTIMEZONE
TZID:Asia/Shanghai
BEGIN:STANDARD
TZOFFSETFROM:+0800
TZOFFSETTO:+0800
TZNAME:CST
DTSTART:20200101T000000
END:STANDARD
END:VTIMEZONE
BEGIN:VEVENT
DTSTART;VALUE=DATE:20201114
DTEND;VALUE=DATE:20201119
DTSTAMP:20260424T160640
CREATED:20200920T122245Z
LAST-MODIFIED:20200920T122719Z
UID:782-1605312000-1605743999@www.bihec.com
SUMMARY:2020上海国际电力元件、可再生能源管理展览会
DESCRIPTION:主办：上海浦东国际展览公司广州光亚法兰克福展览有限公司\n日期：2020-11-14至2020-11-18\n展会状态: 正常\n展会文号：沪商展览(2020)-XZ20-第341号\n地址：世博展览馆(浦东新区)     面积：7000 平方米\n内容：功率半导体、被动元器件、磁性元件与核心材料，散热管理、传感器、ASICS（特定用途集成电路）、微控制器、伺服科技/加载器、DSP与微处理器，电源、UPS电源，能量存储与输送系统，能源管理，软件与测试、测量系统。
URL:https://www.bihec.com/en/event/2020%e4%b8%8a%e6%b5%b7%e5%9b%bd%e9%99%85%e7%94%b5%e5%8a%9b%e5%85%83%e4%bb%b6%e3%80%81%e5%8f%af%e5%86%8d%e7%94%9f%e8%83%bd%e6%ba%90%e7%ae%a1%e7%90%86%e5%b1%95%e8%a7%88%e4%bc%9a/
LOCATION:世博展览馆(浦东新区)\, shanghai\, China
CATEGORIES:展会
ATTACH;FMTTYPE=image/png:https://www.bihec.com/en/wp-content/uploads/sites/213/2020/09/img_5f674942ba514.png
END:VEVENT
END:VCALENDAR