﻿BEGIN:VCALENDAR
VERSION:2.0
PRODID:-//BIHE Consulting - ECPv5.8.1//NONSGML v1.0//EN
CALSCALE:GREGORIAN
METHOD:PUBLISH
X-WR-CALNAME:BIHE Consulting
X-ORIGINAL-URL:https://www.bihec.com/en
X-WR-CALDESC:Events for BIHE Consulting
BEGIN:VTIMEZONE
TZID:Asia/Shanghai
BEGIN:STANDARD
TZOFFSETFROM:+0800
TZOFFSETTO:+0800
TZNAME:CST
DTSTART:20200101T000000
END:STANDARD
END:VTIMEZONE
BEGIN:VEVENT
DTSTART;VALUE=DATE:20201103
DTEND;VALUE=DATE:20201107
DTSTAMP:20260424T190737
CREATED:20200930T031947Z
LAST-MODIFIED:20200930T031947Z
UID:812-1604361600-1604707199@www.bihec.com
SUMMARY:2020上海国际智能加工与工业零部件展览会
DESCRIPTION:The “smart manufacturing fair” of “FBC” is the original equipment manufacturer in Asia. The 23rd session will be held in Shanghai New International Expo Center from November 3 to 6\, 2020. It will not only provide the online and offline dual docking matching of the exhibition front line\, but also arrange factory visits\, theme forums\, individual docking meetings and other activities in accordance with the exhibition theme\, so as to provide a more abundant and professional platform for the exchange of products\, technologies and talents between Chinese and Japanese manufacturing enterprises. Moreover\, the exhibition was supported by Japanese local governments and local banks\, Japanese Consulate General in Shanghai\, Japan Trade Promotion Agency and other Japanese institutions. All localities across the country were called on to cooperate in recruiting counterpart audiences and buyers\, and promote the exhibition to the whole country and even the world through mainstream media at home and abroad.
URL:https://www.bihec.com/en/event/2020%e4%b8%8a%e6%b5%b7%e5%9b%bd%e9%99%85%e6%99%ba%e8%83%bd%e5%8a%a0%e5%b7%a5%e4%b8%8e%e5%b7%a5%e4%b8%9a%e9%9b%b6%e9%83%a8%e4%bb%b6%e5%b1%95%e8%a7%88%e4%bc%9a-2/
CATEGORIES:展会
ATTACH;FMTTYPE=image/png:https://www.bihec.com/en/wp-content/uploads/sites/213/2020/09/img_5f73f8c63bda8.png
END:VEVENT
END:VCALENDAR