﻿BEGIN:VCALENDAR
VERSION:2.0
PRODID:-//BIHE Consulting - ECPv5.8.1//NONSGML v1.0//EN
CALSCALE:GREGORIAN
METHOD:PUBLISH
X-WR-CALNAME:BIHE Consulting
X-ORIGINAL-URL:https://www.bihec.com/en
X-WR-CALDESC:Events for BIHE Consulting
BEGIN:VTIMEZONE
TZID:Asia/Shanghai
BEGIN:STANDARD
TZOFFSETFROM:+0800
TZOFFSETTO:+0800
TZNAME:CST
DTSTART:20200101T000000
END:STANDARD
END:VTIMEZONE
BEGIN:VEVENT
DTSTART;VALUE=DATE:20201103
DTEND;VALUE=DATE:20201107
DTSTAMP:20260424T203455
CREATED:20200930T030434Z
LAST-MODIFIED:20200930T030434Z
UID:809-1604361600-1604707199@www.bihec.com
SUMMARY:2020上海国际工业零部件及分承包展览会
DESCRIPTION:Organizer: Hannover Milan Exhibition (Shanghai) Co.\, Ltd \nDate: November 3\, 2020 to November 6\, 2020 \nExhibition status: normal \nExhibition Document No.: Shanghai Business Exhibition (2020) – xz20-157 \nAddress: New International Expo Center (Pudong New Area) area: 1000 square meters \nContents: metal processing services\, plastic rubber and plastic and synthetic materials processing services\, glass and ceramic processing services\, wood and other industrial processing services\, micro system technology services\, surface treatment processing services\, heat treatment processing services\, industrial fasteners\, industry services\, industrial maintenance\, etc.
URL:https://www.bihec.com/en/event/2020%e4%b8%8a%e6%b5%b7%e5%9b%bd%e9%99%85%e5%b7%a5%e4%b8%9a%e9%9b%b6%e9%83%a8%e4%bb%b6%e5%8f%8a%e5%88%86%e6%89%bf%e5%8c%85%e5%b1%95%e8%a7%88%e4%bc%9a/
LOCATION:新国际博览中心(浦东新区)\, shanghai\, China
CATEGORIES:展会
ATTACH;FMTTYPE=image/png:https://www.bihec.com/en/wp-content/uploads/sites/213/2020/09/img_5f73f2c56952e.png
END:VEVENT
END:VCALENDAR