﻿BEGIN:VCALENDAR
VERSION:2.0
PRODID:-//BIHE Consulting - ECPv5.8.1//NONSGML v1.0//EN
CALSCALE:GREGORIAN
METHOD:PUBLISH
X-WR-CALNAME:BIHE Consulting
X-ORIGINAL-URL:https://www.bihec.com/en
X-WR-CALDESC:Events for BIHE Consulting
BEGIN:VTIMEZONE
TZID:Asia/Shanghai
BEGIN:STANDARD
TZOFFSETFROM:+0800
TZOFFSETTO:+0800
TZNAME:CST
DTSTART:20200101T000000
END:STANDARD
END:VTIMEZONE
BEGIN:VEVENT
DTSTART;VALUE=DATE:20201103
DTEND;VALUE=DATE:20201107
DTSTAMP:20260425T000944
CREATED:20200920T124945Z
LAST-MODIFIED:20200920T124945Z
UID:797-1604361600-1604707199@www.bihec.com
SUMMARY:2020上海国际压缩机及设备展览会
DESCRIPTION:主办：汉诺威米兰展览（上海）有限公司\n日期：2020-11-3至2020-11-6\n展会状态: 正常\n展会文号：沪商展览(2020)-XZ20-第154号\n地址：新国际博览中心(浦东新区)     面积：20000 平方米\n内容：压缩机整机/压缩机后处理设备/压缩机零配件/润滑油及行业相关辅助设备/真空技术
URL:https://www.bihec.com/en/event/2020%e4%b8%8a%e6%b5%b7%e5%9b%bd%e9%99%85%e5%8e%8b%e7%bc%a9%e6%9c%ba%e5%8f%8a%e8%ae%be%e5%a4%87%e5%b1%95%e8%a7%88%e4%bc%9a/
LOCATION:新国际博览中心(浦东新区)\, shanghai\, China
CATEGORIES:展会
ATTACH;FMTTYPE=image/png:https://www.bihec.com/en/wp-content/uploads/sites/213/2020/09/img_5f674fd249b5e.png
END:VEVENT
END:VCALENDAR