﻿BEGIN:VCALENDAR
VERSION:2.0
PRODID:-//BIHE Consulting - ECPv5.8.1//NONSGML v1.0//EN
CALSCALE:GREGORIAN
METHOD:PUBLISH
X-WR-CALNAME:BIHE Consulting
X-ORIGINAL-URL:https://www.bihec.com/en
X-WR-CALDESC:Events for BIHE Consulting
BEGIN:VTIMEZONE
TZID:Asia/Shanghai
BEGIN:STANDARD
TZOFFSETFROM:+0800
TZOFFSETTO:+0800
TZNAME:CST
DTSTART:20200101T000000
END:STANDARD
END:VTIMEZONE
BEGIN:VEVENT
DTSTART;VALUE=DATE:20201020
DTEND;VALUE=DATE:20201023
DTSTAMP:20260425T061736
CREATED:20200930T033510Z
LAST-MODIFIED:20200930T033510Z
UID:819-1603152000-1603411199@www.bihec.com
SUMMARY:2020上海国际五金展览会
DESCRIPTION:Shanghai International Hardware Exhibition 2020 hosted by Shanghai Zhongheng Exhibition Co.\, Ltd \nDate: October 20\, 2020 to October 22\, 2020 \nExhibition status: normal \nExhibition Document No.: Shanghai Business Exhibition (2020) – xz20-566 \nAddress: National Convention and Exhibition Center (Shanghai) (Qingpu District) area: 50000 square meters \nContents: various tools include hand tools\, electric tools\, pneumatic / hydraulic tools and accessories\, insulation tools\, drilling\, sawing\, cutting power tools\, steam protection tools\, abrasives & diamond tools\, garden tools\, nylon ties\, paint (brush) tools\, nail guns and industrial nails\, sling & industrial chain\, rubber wheel / caster & trolley\, labor protection equipment\, industrial hammer Standard machine\, electric welding machine\, air compressor\, generator\, industrial vacuum cleaner\, high pressure cleaning machine\, table type drilling and milling machine\, heat treatment\, forging hammer\, CNC machine tool\, polishing equipment\, industrial robot and tool special manufacturing equipment\, tool professional media and website. All kinds of hardware include construction hardware\, decoration hardware\, furniture hardware\, door and window hardware\, bathroom hardware\, building materials and accessories\, such as: various wire mesh; fasteners\, hose hoops\, link accessories; locks (electronic locks\, mechanical locks)\, keys and lock accessories\, safe (cabinet)\, security equipment and systems; handle\, slide\, faucet\, shower\, pump valve\, water connection pipe fittings\, etc Bathroom hardware and above all kinds of hardware products manufacturing equipment.
URL:https://www.bihec.com/en/event/2020%e4%b8%8a%e6%b5%b7%e5%9b%bd%e9%99%85%e4%ba%94%e9%87%91%e5%b1%95%e8%a7%88%e4%bc%9a/
LOCATION:国家会展中心(上海)(青浦区)\, shanghai\, China
CATEGORIES:展会
ATTACH;FMTTYPE=image/png:https://www.bihec.com/en/wp-content/uploads/sites/213/2020/09/img_5f73fc8a10919.png
END:VEVENT
END:VCALENDAR