﻿BEGIN:VCALENDAR
VERSION:2.0
PRODID:-//BIHE Consulting - ECPv5.8.1//NONSGML v1.0//EN
CALSCALE:GREGORIAN
METHOD:PUBLISH
X-WR-CALNAME:BIHE Consulting
X-ORIGINAL-URL:https://www.bihec.com/en
X-WR-CALDESC:Events for BIHE Consulting
BEGIN:VTIMEZONE
TZID:Asia/Shanghai
BEGIN:STANDARD
TZOFFSETFROM:+0800
TZOFFSETTO:+0800
TZNAME:CST
DTSTART:20200101T000000
END:STANDARD
END:VTIMEZONE
BEGIN:VEVENT
DTSTART;VALUE=DATE:20201110
DTEND;VALUE=DATE:20201113
DTSTAMP:20260424T173508
CREATED:20200920T121147Z
LAST-MODIFIED:20200920T121147Z
UID:779-1604966400-1605225599@www.bihec.com
SUMMARY:第二十四届2020上海国际食品饮料及餐饮设备展览会 FHC 2020
DESCRIPTION:主办：华汉国际会议展览(上海)有限公司上海博华国际展览有限公司\n日期：2020-11-10至2020-11-12\n展会状态: 正常\n展会文号：沪商展览(2019)-XZ20-第591号\n地址：新国际博览中心(浦东新区) 面积：120000 平方米\n内容：食品、饮料、肉类、海鲜、海鲜配套设备及服务、橄榄油、乳制品、果蔬、啤酒、果酒、微型酿造技术烘焙、茶与咖啡、巧克力、冰激凌、红酒和烈酒、化妆品、酒店及餐饮设备、零售供应设备、冷链运输及配送供应链
URL:https://www.bihec.com/en/event/%e7%ac%ac%e4%ba%8c%e5%8d%81%e5%9b%9b%e5%b1%8a2020%e4%b8%8a%e6%b5%b7%e5%9b%bd%e9%99%85%e9%a3%9f%e5%93%81%e9%a5%ae%e6%96%99%e5%8f%8a%e9%a4%90%e9%a5%ae%e8%ae%be%e5%a4%87%e5%b1%95%e8%a7%88%e4%bc%9a-fhc-20/
LOCATION:新国际博览中心(浦东新区)\, shanghai\, China
CATEGORIES:展会
ATTACH;FMTTYPE=image/png:https://www.bihec.com/en/wp-content/uploads/sites/213/2020/09/img_5f6746afdc082.png
END:VEVENT
END:VCALENDAR