﻿BEGIN:VCALENDAR
VERSION:2.0
PRODID:-//BIHE Consulting - ECPv5.8.1//NONSGML v1.0//EN
CALSCALE:GREGORIAN
METHOD:PUBLISH
X-WR-CALNAME:BIHE Consulting
X-ORIGINAL-URL:https://www.bihec.com/en
X-WR-CALDESC:Events for BIHE Consulting
BEGIN:VTIMEZONE
TZID:Asia/Shanghai
BEGIN:STANDARD
TZOFFSETFROM:+0800
TZOFFSETTO:+0800
TZNAME:CST
DTSTART:20200101T000000
END:STANDARD
END:VTIMEZONE
BEGIN:VEVENT
DTSTART;VALUE=DATE:20201020
DTEND;VALUE=DATE:20201023
DTSTAMP:20260425T030634
CREATED:20200930T034838Z
LAST-MODIFIED:20200930T034838Z
UID:823-1603152000-1603411199@www.bihec.com
SUMMARY:上海国际液化天然气技术装备展
DESCRIPTION:LNG purification\, liquefaction and vaporization process equipment equipment for LNG gasification station\, natural gas liquefaction unit\, LNG refrigeration equipment\, LNG / CNG fluid separation equipment\, low temperature heat exchange equipment\, skid mounted station equipment\, gas production and processing technology\, liquefaction cryogenic technology\, desulfurization and dephosphorization process technology\, differential pressure energy expansion liquefaction technology\, refrigerant compressor technology
URL:https://www.bihec.com/en/event/%e4%b8%8a%e6%b5%b7%e5%9b%bd%e9%99%85%e6%b6%b2%e5%8c%96%e5%a4%a9%e7%84%b6%e6%b0%94%e6%8a%80%e6%9c%af%e8%a3%85%e5%a4%87%e5%b1%95-2/
LOCATION:上海跨国采购会展中心(普陀区)\, shanghai\, China
CATEGORIES:展会
ATTACH;FMTTYPE=image/png:https://www.bihec.com/en/wp-content/uploads/sites/213/2020/09/img_5f73fee20b19e.png
END:VEVENT
END:VCALENDAR